BEGIN:VCALENDAR
VERSION:2.0
PRODID:-//Southern Cross Postgraduate Association - SCPA - ECPv4.9.5//NONSGML v1.0//EN
CALSCALE:GREGORIAN
METHOD:PUBLISH
X-WR-CALNAME:Southern Cross Postgraduate Association - SCPA
X-ORIGINAL-URL:http://scpa.net.au
X-WR-CALDESC:Events for Southern Cross Postgraduate Association - SCPA
BEGIN:VTIMEZONE
TZID:"Australia/Sydney"
BEGIN:STANDARD
TZOFFSETFROM:+1100
TZOFFSETTO:+1000
TZNAME:AEST
DTSTART:20170401T160000
END:STANDARD
BEGIN:DAYLIGHT
TZOFFSETFROM:+1000
TZOFFSETTO:+1100
TZNAME:AEDT
DTSTART:20170930T160000
END:DAYLIGHT
END:VTIMEZONE
BEGIN:VEVENT
DTSTART;TZID="Australia/Sydney":20170831T093000
DTEND;TZID="Australia/Sydney":20170831T123000
DTSTAMP:20260423T092657
CREATED:20170503T015348Z
LAST-MODIFIED:20170703T044624Z
UID:597-1504171800-1504182600@scpa.net.au
SUMMARY:Critical literature reviews - Lismore and online
DESCRIPTION:Learn how to undertake a critical literature review\, including making sense of the literature\, organising your analysis and developing a critical argument. \nTrainer: Dr Kath Fisher \nTo register: Click here \n
URL:http://scpa.net.au/event/critical-literature-reviews-lismore-online/
LOCATION:Lismore Learning Centre\, Postgraduate Room (Level 3)\, Military Road\, East Lismore\, NSW\, 2480\, Australia
END:VEVENT
END:VCALENDAR