BEGIN:VCALENDAR
VERSION:2.0
PRODID:-//Southern Cross Postgraduate Association - SCPA - ECPv4.9.5//NONSGML v1.0//EN
CALSCALE:GREGORIAN
METHOD:PUBLISH
X-WR-CALNAME:Southern Cross Postgraduate Association - SCPA
X-ORIGINAL-URL:http://scpa.net.au
X-WR-CALDESC:Events for Southern Cross Postgraduate Association - SCPA
BEGIN:VTIMEZONE
TZID:"Australia/Sydney"
BEGIN:STANDARD
TZOFFSETFROM:+1100
TZOFFSETTO:+1000
TZNAME:AEST
DTSTART:20250405T160000
END:STANDARD
BEGIN:DAYLIGHT
TZOFFSETFROM:+1000
TZOFFSETTO:+1100
TZNAME:AEDT
DTSTART:20251004T160000
END:DAYLIGHT
END:VTIMEZONE
BEGIN:VEVENT
DTSTART;TZID="Australia/Sydney":20250917T180000
DTEND;TZID="Australia/Sydney":20250917T190000
DTSTAMP:20260424T153625
CREATED:20250202T230345Z
LAST-MODIFIED:20250910T233008Z
UID:5315-1758132000-1758135600@scpa.net.au
SUMMARY:Register: Mastering Your Finances: Avoiding Costly Mistakes
DESCRIPTION:Financial Wellbeing webinars for Postgrad students with Liz McLardy – \nMastering Your Finances: Avoiding Costly Mistakes \nTIME: 6:00 – 7:00 pm\nDATE: Wednesday\, 17 September\nAll Honours\, Grad Dip\, Grad Certs\, Master’s & PhD students are welcome to attend SCPA free workshops \nRegister: https://bit.ly/4eAXafV\nOr SCAN the QR code below \n \nJoin the SCPA membership (IT’S FREE): https://scpa.net.au/members/member-registration/ (the form takes 2 mins & is free)  \n
URL:http://scpa.net.au/event/mastering-your-finances-avoiding-costly-mistakes/
END:VEVENT
END:VCALENDAR