BEGIN:VCALENDAR
VERSION:2.0
PRODID:-//Southern Cross Postgraduate Association - SCPA - ECPv4.9.5//NONSGML v1.0//EN
CALSCALE:GREGORIAN
METHOD:PUBLISH
X-WR-CALNAME:Southern Cross Postgraduate Association - SCPA
X-ORIGINAL-URL:http://scpa.net.au
X-WR-CALDESC:Events for Southern Cross Postgraduate Association - SCPA
BEGIN:VTIMEZONE
TZID:"Australia/Brisbane"
BEGIN:STANDARD
TZOFFSETFROM:+1000
TZOFFSETTO:+1000
TZNAME:AEST
DTSTART:20210101T000000
END:STANDARD
END:VTIMEZONE
BEGIN:VEVENT
DTSTART;TZID="Australia/Brisbane":20210202T080000
DTEND;TZID="Australia/Brisbane":20210202T150000
DTSTAMP:20260423T100211
CREATED:20210115T035249Z
LAST-MODIFIED:20210115T035249Z
UID:2575-1612252800-1612278000@scpa.net.au
SUMMARY:Microsoft Power BI Introduction Training
DESCRIPTION:[CognitoForms id=”85″]\nIf the form does not display correctly try a different browser (Google Chrome) \n
URL:http://scpa.net.au/event/microsoft-power-bi-introduction-training/
END:VEVENT
END:VCALENDAR