BEGIN:VCALENDAR
VERSION:2.0
PRODID:-//Southern Cross Postgraduate Association - SCPA - ECPv4.9.5//NONSGML v1.0//EN
CALSCALE:GREGORIAN
METHOD:PUBLISH
X-WR-CALNAME:Southern Cross Postgraduate Association - SCPA
X-ORIGINAL-URL:http://scpa.net.au
X-WR-CALDESC:Events for Southern Cross Postgraduate Association - SCPA
BEGIN:VTIMEZONE
TZID:"Australia/Sydney"
BEGIN:STANDARD
TZOFFSETFROM:+1100
TZOFFSETTO:+1000
TZNAME:AEST
DTSTART:20250405T160000
END:STANDARD
BEGIN:DAYLIGHT
TZOFFSETFROM:+1000
TZOFFSETTO:+1100
TZNAME:AEDT
DTSTART:20251004T160000
END:DAYLIGHT
END:VTIMEZONE
BEGIN:VEVENT
DTSTART;TZID="Australia/Sydney":20250916T120000
DTEND;TZID="Australia/Sydney":20250916T140000
DTSTAMP:20260424T122653
CREATED:20250819T022046Z
LAST-MODIFIED:20250909T004052Z
UID:6027-1758024000-1758031200@scpa.net.au
SUMMARY:Register: Postgrad FREE Lunch- Gold Coast Campus
DESCRIPTION:Join us for the Postgrad FREE Lunch – Gold Coast Campus\nDATE: Tuesday 16 September\nTIME: 12 – 2 pm\nLOCATION: Building A\, Room 4.05 \nAll Honours\, Grad Dip\, Grad Certs\, Master’s & PhD students are welcome to attend  \nRegister via the link: https://bit.ly/45PYCqz\nOR SCAN the QR Code below \n \nJoin the SCPA membership (IT’S FREE): https://scpa.net.au/members/member-registration/ (the form takes 2 mins & is free)  \n
URL:http://scpa.net.au/event/postgrad-lunch-gold-coast-campus-3/
END:VEVENT
END:VCALENDAR