BEGIN:VCALENDAR
VERSION:2.0
PRODID:-//Southern Cross Postgraduate Association - SCPA - ECPv4.9.5//NONSGML v1.0//EN
CALSCALE:GREGORIAN
METHOD:PUBLISH
X-WR-CALNAME:Southern Cross Postgraduate Association - SCPA
X-ORIGINAL-URL:https://scpa.net.au
X-WR-CALDESC:Events for Southern Cross Postgraduate Association - SCPA
BEGIN:VTIMEZONE
TZID:"Australia/Sydney"
BEGIN:STANDARD
TZOFFSETFROM:+1100
TZOFFSETTO:+1000
TZNAME:AEST
DTSTART:20230401T160000
END:STANDARD
BEGIN:DAYLIGHT
TZOFFSETFROM:+1000
TZOFFSETTO:+1100
TZNAME:AEDT
DTSTART:20230930T160000
END:DAYLIGHT
END:VTIMEZONE
BEGIN:VEVENT
DTSTART;TZID="Australia/Sydney":20231020T093000
DTEND;TZID="Australia/Sydney":20231020T170000
DTSTAMP:20260423T133016
CREATED:20230728T014649Z
LAST-MODIFIED:20231003T004443Z
UID:3808-1697794200-1697821200@scpa.net.au
SUMMARY:Faculy of Health -HDR Symposium\, Training and Networking Day
DESCRIPTION:Faculty of Health -HDR Symposium\, Training and Networking Day\nFriday 20th October 2023\, Coffs Harbour Campus and Via Zoom \nRegister via QR Code below\n\n
URL:https://scpa.net.au/event/faculy-of-health-hdr-symposium-training-and-networking-day/
END:VEVENT
END:VCALENDAR